BEGIN:VCALENDAR
VERSION:2.0
PRODID:-//UNITE HERE! Local 24 - ECPv6.15.18//NONSGML v1.0//EN
CALSCALE:GREGORIAN
METHOD:PUBLISH
X-ORIGINAL-URL:https://www.unitehere24.org
X-WR-CALDESC:Events for UNITE HERE! Local 24
REFRESH-INTERVAL;VALUE=DURATION:PT1H
X-Robots-Tag:noindex
X-PUBLISHED-TTL:PT1H
BEGIN:VTIMEZONE
TZID:America/New_York
BEGIN:DAYLIGHT
TZOFFSETFROM:-0500
TZOFFSETTO:-0400
TZNAME:EDT
DTSTART:20240310T070000
END:DAYLIGHT
BEGIN:STANDARD
TZOFFSETFROM:-0400
TZOFFSETTO:-0500
TZNAME:EST
DTSTART:20241103T060000
END:STANDARD
BEGIN:DAYLIGHT
TZOFFSETFROM:-0500
TZOFFSETTO:-0400
TZNAME:EDT
DTSTART:20250309T070000
END:DAYLIGHT
BEGIN:STANDARD
TZOFFSETFROM:-0400
TZOFFSETTO:-0500
TZNAME:EST
DTSTART:20251102T060000
END:STANDARD
BEGIN:DAYLIGHT
TZOFFSETFROM:-0500
TZOFFSETTO:-0400
TZNAME:EDT
DTSTART:20260308T070000
END:DAYLIGHT
BEGIN:STANDARD
TZOFFSETFROM:-0400
TZOFFSETTO:-0500
TZNAME:EST
DTSTART:20261101T060000
END:STANDARD
END:VTIMEZONE
BEGIN:VEVENT
DTSTART;TZID=America/New_York:20250909T100000
DTEND;TZID=America/New_York:20250909T120000
DTSTAMP:20260420T154554
CREATED:20250211T233722Z
LAST-MODIFIED:20250211T233722Z
UID:978-1757412000-1757419200@www.unitehere24.org
SUMMARY:General Membership Meeting
DESCRIPTION:Please join us for the Local 24 General Membership Meeting\, at 10:00am and/or 5:00pm. \nLOCATIONS:\nMetro Detroit Members: Local 24 Office\, 300 River Place Dr Ste 2700\, Detroit MI 48207 \nBay City Members: Contact Union Representative for Zoom link \nOhio Members: Contact Union Representative for Zoom link
URL:https://www.unitehere24.org/event/general-membership-meeting-2-3-3/
END:VEVENT
BEGIN:VEVENT
DTSTART;TZID=America/New_York:20250909T170000
DTEND;TZID=America/New_York:20250909T190000
DTSTAMP:20260420T154554
CREATED:20250211T233742Z
LAST-MODIFIED:20250211T233742Z
UID:980-1757437200-1757444400@www.unitehere24.org
SUMMARY:General Membership Meeting
DESCRIPTION:Please join us for the Local 24 General Membership Meeting\, at 10:00am and/or 5:00pm. \nLOCATIONS:\nMetro Detroit Members: Local 24 Office\, 300 River Place Dr Ste 2700\, Detroit MI 48207 \nBay City Members: Contact Union Representative for Zoom link \nOhio Members: Contact Union Representative for Zoom link
URL:https://www.unitehere24.org/event/general-membership-meeting-2-3-3-2/
END:VEVENT
END:VCALENDAR