BEGIN:VCALENDAR
VERSION:2.0
PRODID:-//UNITE HERE! Local 24 - ECPv6.15.20//NONSGML v1.0//EN
CALSCALE:GREGORIAN
METHOD:PUBLISH
X-ORIGINAL-URL:https://www.unitehere24.org
X-WR-CALDESC:Events for UNITE HERE! Local 24
REFRESH-INTERVAL;VALUE=DURATION:PT1H
X-Robots-Tag:noindex
X-PUBLISHED-TTL:PT1H
BEGIN:VTIMEZONE
TZID:America/New_York
BEGIN:DAYLIGHT
TZOFFSETFROM:-0500
TZOFFSETTO:-0400
TZNAME:EDT
DTSTART:20240310T070000
END:DAYLIGHT
BEGIN:STANDARD
TZOFFSETFROM:-0400
TZOFFSETTO:-0500
TZNAME:EST
DTSTART:20241103T060000
END:STANDARD
BEGIN:DAYLIGHT
TZOFFSETFROM:-0500
TZOFFSETTO:-0400
TZNAME:EDT
DTSTART:20250309T070000
END:DAYLIGHT
BEGIN:STANDARD
TZOFFSETFROM:-0400
TZOFFSETTO:-0500
TZNAME:EST
DTSTART:20251102T060000
END:STANDARD
BEGIN:DAYLIGHT
TZOFFSETFROM:-0500
TZOFFSETTO:-0400
TZNAME:EDT
DTSTART:20260308T070000
END:DAYLIGHT
BEGIN:STANDARD
TZOFFSETFROM:-0400
TZOFFSETTO:-0500
TZNAME:EST
DTSTART:20261101T060000
END:STANDARD
END:VTIMEZONE
BEGIN:VEVENT
DTSTART;TZID=America/New_York:20250307T100000
DTEND;TZID=America/New_York:20250307T120000
DTSTAMP:20260421T070921
CREATED:20250221T215417Z
LAST-MODIFIED:20250221T215637Z
UID:1006-1741341600-1741348800@www.unitehere24.org
SUMMARY:Cleveland Shop Steward Meetings & Training
DESCRIPTION:Please join us for Shop Steward meetings and training\, at 10:00am and/or 5:00pm. \nLOCATION:\nTeamsters Local 436\, 6051 Carey Dr\, Valley View\, OH 44125
URL:https://www.unitehere24.org/event/general-membership-meeting-2-3-3-3-3-3/
END:VEVENT
BEGIN:VEVENT
DTSTART;TZID=America/New_York:20250307T170000
DTEND;TZID=America/New_York:20250307T190000
DTSTAMP:20260421T070921
CREATED:20250221T215507Z
LAST-MODIFIED:20250221T215656Z
UID:1009-1741366800-1741374000@www.unitehere24.org
SUMMARY:Cleveland Shop Steward Meetings & Training
DESCRIPTION:Please join us for Shop Steward meetings and training\, at 10:00am and/or 5:00pm. \nLOCATION:\nTeamsters Local 436\, 6051 Carey Dr\, Valley View\, OH 44125
URL:https://www.unitehere24.org/event/general-membership-meeting-2-3-3-3-3-3-2/
END:VEVENT
END:VCALENDAR